BEGIN:VCALENDAR
VERSION:2.0
PRODID:-//MTB Team Cyklokyjovský - ECPv6.11.2.1//NONSGML v1.0//EN
CALSCALE:GREGORIAN
METHOD:PUBLISH
X-WR-CALNAME:MTB Team Cyklokyjovský
X-ORIGINAL-URL:https://mtbteam.cyklokyjovsky.cz
X-WR-CALDESC:Akce na MTB Team Cyklokyjovský
REFRESH-INTERVAL;VALUE=DURATION:PT1H
X-Robots-Tag:noindex
X-PUBLISHED-TTL:PT1H
BEGIN:VTIMEZONE
TZID:UTC
BEGIN:STANDARD
TZOFFSETFROM:+0000
TZOFFSETTO:+0000
TZNAME:UTC
DTSTART:20240101T000000
END:STANDARD
END:VTIMEZONE
BEGIN:VEVENT
DTSTART;TZID=UTC:20251122T100000
DTEND;TZID=UTC:20251122T220000
DTSTAMP:20260421T155847
CREATED:20250410T061249Z
LAST-MODIFIED:20251118T093849Z
UID:1782-1763805600-1763848800@mtbteam.cyklokyjovsky.cz
SUMMARY:Cyklokros Slavkov u Brna 2025
DESCRIPTION:závod je zároveň Přeborem Jihomoravského kraje v cyklokrosu a součástí cyklokrosového poháru JMK \n\n\n\nZávod se jede pod záštitou a za osobní účasti \n\n\n\n\nMichala Boudného – starosty města Slavkov u Brna \n\n\n\nDušana Horáka – starosty obce Nížkovice \n\n\n\nJána Svorady – vítěze etap na všech Grand Tour\, včetně nejprestižnější etapy Tour de Francena Champs-Élysées\n\n\n\nPavla Boudného – slavkovského rodáka\, vícenásobného mistra České republiky v cross-countrya maratonu na horských kolech\, vicemistra Evropy v maratonu 2012\n\n\n\nMilana Zyky –  slavkovského rodáka\, cyklisty a olympionika z 1972 v Mnichově\n\n\n\n\n\n\n\n\n\n\n\n\n\n\n\n\n\n\nTermín:                       sobota 22. 11. 2025 od 10:00 \n\n\n\nPořadatel:                   CykloKyjovský MTB Team z.s https://mtbteam.cyklokyjovsky.cz \n\n\n\nŘeditel závodu:          Radek Neužil (728 287 938)\, Radovan Kyjovský (777 665 205) \n\n\n\nHlavní rozhodčí:         Renata Holová \n\n\n\nVelitel trati:               Petr Andrýsek (608 967 588)\, Dušan Horák \n\n\n\nZáchranář:                  Marie Honelová \n\n\n\nKancelář závodu:       v místě startu\, u vstupu na atletický stadion Slavkov u Brna \n\n\n\nPrezence:                    Marcela Neužilová \n\n\n\nStartovní čísla:           Gabriela Gecová\, Lenka Andrýsková \n\n\n\nStartovné:      mládež 150\,- Kč (dětské závody 1-3. vlna) \n\n\n\nkadeti\, kadetky\, junioři\, juniorky\, muži a ženy (4.vlna) 300\,- Kč \n\n\n\nRegistrace a přihlášky: online na https://my.raceresult.com/367122/registration \n\n\n\n            případně na místě nejpozději 30 minut před startem příslušné kategorie \n\n\n\n!Důležité! Platba převodem je možná jen do 23.59h 20.11.2025!!! Potom je možná platba jen na místě!\n\n\n\nDěkujeme za pochopení.\n\n\n\nVýdej start. čísel:       v den závodu v místě startu\, výdej čísel 45-15 minut před startem kategorie \n\n\n\nParkování:      na označených parkovištích u atletického stadionu nebo u kostela \n\n\n\nStartovní vlny:           \n\n\n\n10:00   1. vlna délka závodu 10 min   \n\n\n\npřípravka kluci (2017 a mladší) \n\n\n\npřípravka holky (2017 a mladší) \n\n\n\n10:20   2. vlna délka závodu 15 min \n\n\n\nžáci mladší (2014-2016) \n\n\n\nžákyně mladší (2014-2016) \n\n\n\n10:45   3. vlna délka závodu 20 min  \n\n\n\nžáci starší (2012-2013) \n\n\n\nžákyně starší (2012-2013) \n\n\n\nkadetky (2010–2011) \n\n\n\n11:45   4. vlna délka závodu 30 min  \n\n\n\nkadeti (2010–2011) \n\n\n\njuniorky (2008–2009) \n\n\n\nženy (2007 a starší) \n\n\n\n13:00   5. vlna vlna délka závodu 50 min \n\n\n\njunioři (2008–2009) \n\n\n\nmuži open (elite+muži do 23 let) (2007–1987) \n\n\n\nmuži masters I 40-49 let (1986–1977) \n\n\n\nmuži masters II 50 let a starší (1976 a starší) \n\n\n\nPodmínka účasti:       Závodí se dle pravidel ČSC a zveřejněného rozpisu závodu zveřejněného na https://mtbteam.cyklokyjovsky.cz . \n\n\n\nCyklistická přilba je povinná pro všechny kategorie.Závodník se může zúčastnit soutěže na cyklokrosovém\, gravelovém nebo horském kole. Zakázána jsou elektrokola.Každý závodník startuje na vlastní nebezpečí. U neorganizované mládeže (bez členství v klubu) start pouze s písemným souhlasem zákonného zástupce čestné prohlášení \n\n\n\nVyhlášení výsledků závodu:   \n\n\n\n11.15 vyhlášení startovních vln 1-3 (přípravky; žáci žákyně mladší a starší)14.30 vyhlášení startovních vln 4-5 (kadeti\, kadetky\, junioři\, juniorky\, ženy\, muži) \n\n\n\nCeny:  1-3. místo v pořadí v každé vypsané kategorii: věcné ceny\, medaile\, diplomy \n\n\n\nPrize money:  prvních 5 závodníků v závodě 5. vlny (Junioři\, Muži) \n\n\n\n\nmísto 15% ze startovného 5. vlny\n\n\n\nmísto 8% ze startovného 5. vlny\n\n\n\nmísto 5% ze startovného 5. vlny\n\n\n\nmísto 4% ze startovného 5. vlny\n\n\n\nmísto 3% ze startovného 5. vlny\n\n\n\n\nIlustrační příklad výše prize money: \n\n\n\n\n\n\n\nVyhlášení výsledků přeboru JMK:    \n\n\n\n11.15 vyhlášení startovních vln 1-3 (přípravky; žáci žákyně mladší a starší)14.30 vyhlášení startovních vln 4-5 (kadeti\, kadetky\, junioři\, juniorky\, ženy\, muži) \n\n\n\nCeny:   1-3. místo v pořadí v každé vypsané kategorii: medaile \n\n\n\nVyhlášení průběžných výsledků v Poháru CX JMK: \n\n\n\nVyhlášení nebude probíhat na místě\, výsledky závodu budou započteny do průběžného pořadí a uveřejěny na https://www.facebook.com/profile.php?id=61579868690976 \n\n\n\nRůzné:                         Pořadatel neručí za škody účastníkům vzniklé ani jimi způsobené. \n\n\n\nPořadatel si vyhrazuje právo úpravy programu v případě vyšší moci nebo omezeného počtu startujících. \n\n\n\nPořadatel si vyhrazuje v případě nepředvídaných okolností změnit rozpis tohoto závodu.           \n\n\n\nMapy závodu:             Základní trať pro startovní vlny 3-5: 1\,67 km převýšení: 35m \n\n\n\n                                    Povrch: 15% asfalt\,dlažba\, 60% tráva\, 24% zpevněné stezky\,  1% písek \n\n\n\n\n\n\n\n\n\n\n\n\n\n\n\nZa podporu děkujeme sponzorům:
URL:https://mtbteam.cyklokyjovsky.cz/akce/cyklokros-slavkov-u-brna-2025/
LOCATION:Atletický stadion Slavkov u Brna\, Kaunicova\, Slavkov u Brna\, 684 01\, Czech Republic
ORGANIZER;CN="CykloKyjovsk%C3%BD MTB Team z.s.":MAILTO:team@cyklokyjovsky.cz
END:VEVENT
BEGIN:VEVENT
DTSTART;TZID=UTC:20250920T000000
DTEND;TZID=UTC:20250920T235959
DTSTAMP:20260421T155847
CREATED:20250410T065144Z
LAST-MODIFIED:20250410T065145Z
UID:1852-1758326400-1758412799@mtbteam.cyklokyjovsky.cz
SUMMARY:Pohár Drahanské vrchoviny 2025 - Blansko
DESCRIPTION:
URL:https://mtbteam.cyklokyjovsky.cz/akce/pohar-drahanske-vrchoviny-2025-blansko/
LOCATION:Blansko\, Blansko\, Czech Republic
ATTACH;FMTTYPE=image/jpeg:https://mtbteam.cyklokyjovsky.cz/wp-content/uploads/2025/04/Pohar-Drahanske-vrchoviny-2025.jpg
ORGANIZER;CN="MORAVEC TEAM z.s.":MAILTO:moravecteam@gmail.cz
END:VEVENT
BEGIN:VEVENT
DTSTART;TZID=UTC:20250913T000000
DTEND;TZID=UTC:20250913T235959
DTSTAMP:20260421T155847
CREATED:20250410T065058Z
LAST-MODIFIED:20250410T065059Z
UID:1848-1757721600-1757807999@mtbteam.cyklokyjovsky.cz
SUMMARY:Pohár Drahanské vrchoviny 2025 - Nové Město na Moravě
DESCRIPTION:
URL:https://mtbteam.cyklokyjovsky.cz/akce/pohar-drahanske-vrchoviny-2025-nove-mesto-na-morave/
LOCATION:Nové Město na Moravě\, Nové Město na Moravě\, Czech Republic
ATTACH;FMTTYPE=image/jpeg:https://mtbteam.cyklokyjovsky.cz/wp-content/uploads/2025/04/Pohar-Drahanske-vrchoviny-2025.jpg
ORGANIZER;CN="MORAVEC TEAM z.s.":MAILTO:moravecteam@gmail.cz
END:VEVENT
BEGIN:VEVENT
DTSTART;TZID=UTC:20250912T153000
DTEND;TZID=UTC:20250912T190000
DTSTAMP:20260421T155847
CREATED:20250410T061531Z
LAST-MODIFIED:20250520T110138Z
UID:1784-1757691000-1757703600@mtbteam.cyklokyjovsky.cz
SUMMARY:Slavkovský šlapík 2025 – areál bývalé Střelnice
DESCRIPTION:Kdy a kde: \n\n\n\n12. září 2025 na střelnici ve Slavkově u Brna (prezence od 15:15\, začátek závodu v 16 hodin – časy startů o 30 minut dříve) \n\n\n\nZačátek závodu: 16:00 \n\n\n\nPrezence: od 15:15 do 16:00 \n\n\n\nStartovné: Odrážedla 50 Kč\, Ostatní 100 Kč \n\n\n\n\n\n\nPROPOZICE ZÁVODU SLAVKOVSKÝ ŠLAPÍK 2025Stáhnout\n\n\n\n\n\n\nČESTNÉ PROHLÁŠENÍ 2025Stáhnout
URL:https://mtbteam.cyklokyjovsky.cz/akce/slavkovsky-slapik-2025-areal-byvale-strelnice/
LOCATION:Slavkov u Brna – areál bývalé Střelnice\, Lesní\, Slavkov u Brna\, 68401\, Česká republika
ATTACH;FMTTYPE=image/jpeg:https://mtbteam.cyklokyjovsky.cz/wp-content/uploads/2025/04/slapik25.jpg
ORGANIZER;CN="CykloKyjovsk%C3%BD MTB Team z.s.":MAILTO:team@cyklokyjovsky.cz
END:VEVENT
BEGIN:VEVENT
DTSTART;TZID=UTC:20250909T000000
DTEND;TZID=UTC:20250909T235959
DTSTAMP:20260421T155847
CREATED:20250410T064811Z
LAST-MODIFIED:20250410T064812Z
UID:1844-1757376000-1757462399@mtbteam.cyklokyjovsky.cz
SUMMARY:Pohár Drahanské vrchoviny 2025 - Velenov
DESCRIPTION:
URL:https://mtbteam.cyklokyjovsky.cz/akce/pohar-drahanske-vrchoviny-2025-velenov/
LOCATION:Velenov\, Velenov\, Czech Republic
ATTACH;FMTTYPE=image/jpeg:https://mtbteam.cyklokyjovsky.cz/wp-content/uploads/2025/04/Pohar-Drahanske-vrchoviny-2025.jpg
ORGANIZER;CN="MORAVEC TEAM z.s.":MAILTO:moravecteam@gmail.cz
END:VEVENT
BEGIN:VEVENT
DTSTART;TZID=UTC:20250829T163000
DTEND;TZID=UTC:20250829T190000
DTSTAMP:20260421T155847
CREATED:20250410T063526Z
LAST-MODIFIED:20250410T063527Z
UID:1821-1756485000-1756494000@mtbteam.cyklokyjovsky.cz
SUMMARY:Tour de NÍŽINA 2025 - 29.8.2025
DESCRIPTION:
URL:https://mtbteam.cyklokyjovsky.cz/akce/tour-de-nizina-2025-29-8-2025/
LOCATION:Nížkovice\, Nížkovice\, 68401\, Czech Republic
ATTACH;FMTTYPE=image/jpeg:https://mtbteam.cyklokyjovsky.cz/wp-content/uploads/2025/04/tourdenizina2025.jpg
ORGANIZER;CN="Alena Ondrov%C3%A1":MAILTO:podatelna@nizkovice.cz
END:VEVENT
BEGIN:VEVENT
DTSTART;TZID=UTC:20250809T000000
DTEND;TZID=UTC:20250809T235959
DTSTAMP:20260421T155847
CREATED:20250410T064712Z
LAST-MODIFIED:20250410T064713Z
UID:1842-1754697600-1754783999@mtbteam.cyklokyjovsky.cz
SUMMARY:Pohár Drahanské vrchoviny 2025 - Boskovice
DESCRIPTION:
URL:https://mtbteam.cyklokyjovsky.cz/akce/pohar-drahanske-vrchoviny-2025-boskovice/
ATTACH;FMTTYPE=image/jpeg:https://mtbteam.cyklokyjovsky.cz/wp-content/uploads/2025/04/Pohar-Drahanske-vrchoviny-2025.jpg
ORGANIZER;CN="MORAVEC TEAM z.s.":MAILTO:moravecteam@gmail.cz
END:VEVENT
BEGIN:VEVENT
DTSTART;TZID=UTC:20250628T000000
DTEND;TZID=UTC:20250628T235959
DTSTAMP:20260421T155847
CREATED:20250410T064507Z
LAST-MODIFIED:20250410T064508Z
UID:1840-1751068800-1751155199@mtbteam.cyklokyjovsky.cz
SUMMARY:Pohár Drahanské vrchoviny 2025 - Benešov
DESCRIPTION:
URL:https://mtbteam.cyklokyjovsky.cz/akce/pohar-drahanske-vrchoviny-2025-benesov/
LOCATION:Benešov\, Benešov\, Czech Republic
ATTACH;FMTTYPE=image/jpeg:https://mtbteam.cyklokyjovsky.cz/wp-content/uploads/2025/04/Pohar-Drahanske-vrchoviny-2025.jpg
ORGANIZER;CN="MORAVEC TEAM z.s.":MAILTO:moravecteam@gmail.cz
END:VEVENT
BEGIN:VEVENT
DTSTART;TZID=UTC:20250620T160000
DTEND;TZID=UTC:20250620T190000
DTSTAMP:20260421T155847
CREATED:20250410T060521Z
LAST-MODIFIED:20250520T110140Z
UID:1776-1750435200-1750446000@mtbteam.cyklokyjovsky.cz
SUMMARY:Slavkovský šlapík 2025 – Slavkov u Brna – Nádvoří zámku
DESCRIPTION:Kdy a kde: \n\n\n\n20.6.2025 – Slavkov u Brna \n\n\n\nZačátek závodu: 16:30 \n\n\n\nPrezence: od 15:45 do 16:30 \n\n\n\nStartovné: Odrážedla 50 Kč\, Ostatní 100 Kč \n\n\n\n\n\n\nPROPOZICE ZÁVODU SLAVKOVSKÝ ŠLAPÍK 2025Stáhnout\n\n\n\n\n\n\nČESTNÉ PROHLÁŠENÍ 2025Stáhnout
URL:https://mtbteam.cyklokyjovsky.cz/akce/slavkovsky-slapik-2025-slavkov-u-brna-nadvori-zamku/
LOCATION:Slavkov u Brna – nádvoří zámku\, Palackého nám. 1\, Slavkov u Brna\, 68401\, Česká republika
ATTACH;FMTTYPE=image/jpeg:https://mtbteam.cyklokyjovsky.cz/wp-content/uploads/2025/04/slapik25.jpg
ORGANIZER;CN="CykloKyjovsk%C3%BD MTB Team z.s.":MAILTO:team@cyklokyjovsky.cz
END:VEVENT
BEGIN:VEVENT
DTSTART;TZID=UTC:20250614T000000
DTEND;TZID=UTC:20250614T235959
DTSTAMP:20260421T155847
CREATED:20250410T064401Z
LAST-MODIFIED:20250410T064549Z
UID:1833-1749859200-1749945599@mtbteam.cyklokyjovsky.cz
SUMMARY:Pohár Drahanské vrchoviny 2025 - Knínice
DESCRIPTION:
URL:https://mtbteam.cyklokyjovsky.cz/akce/pohar-drahanske-vrchoviny-2025-kninice/
LOCATION:Knínice\, Knínice\, Czech Republic
ATTACH;FMTTYPE=image/jpeg:https://mtbteam.cyklokyjovsky.cz/wp-content/uploads/2025/04/Pohar-Drahanske-vrchoviny-2025.jpg
ORGANIZER;CN="MORAVEC TEAM z.s.":MAILTO:moravecteam@gmail.cz
END:VEVENT
BEGIN:VEVENT
DTSTART;TZID=UTC:20250608T000000
DTEND;TZID=UTC:20250608T235959
DTSTAMP:20260421T155847
CREATED:20250410T064230Z
LAST-MODIFIED:20250410T064231Z
UID:1828-1749340800-1749427199@mtbteam.cyklokyjovsky.cz
SUMMARY:Pohár Drahanské vrchoviny 2025 - Moravská Třebová
DESCRIPTION:
URL:https://mtbteam.cyklokyjovsky.cz/akce/pohar-drahanske-vrchoviny-2025-moravska-trebova/
LOCATION:Moravská Třebová\, Moravská Třebová\, Czech Republic
ATTACH;FMTTYPE=image/jpeg:https://mtbteam.cyklokyjovsky.cz/wp-content/uploads/2025/04/Pohar-Drahanske-vrchoviny-2025.jpg
ORGANIZER;CN="MORAVEC TEAM z.s.":MAILTO:moravecteam@gmail.cz
END:VEVENT
BEGIN:VEVENT
DTSTART;TZID=UTC:20250606T163000
DTEND;TZID=UTC:20250606T190000
DTSTAMP:20260421T155847
CREATED:20250410T063445Z
LAST-MODIFIED:20250410T063446Z
UID:1819-1749227400-1749236400@mtbteam.cyklokyjovsky.cz
SUMMARY:Tour de NÍŽINA 2025 - 6.6.2025
DESCRIPTION:
URL:https://mtbteam.cyklokyjovsky.cz/akce/tour-de-nizina-2025-6-6-2025/
LOCATION:Nížkovice\, Nížkovice\, 68401\, Czech Republic
ATTACH;FMTTYPE=image/jpeg:https://mtbteam.cyklokyjovsky.cz/wp-content/uploads/2025/04/tourdenizina2025.jpg
ORGANIZER;CN="Alena Ondrov%C3%A1":MAILTO:podatelna@nizkovice.cz
END:VEVENT
BEGIN:VEVENT
DTSTART;TZID=UTC:20250523T163000
DTEND;TZID=UTC:20250523T190000
DTSTAMP:20260421T155847
CREATED:20250410T062623Z
LAST-MODIFIED:20250410T062624Z
UID:1803-1748017800-1748026800@mtbteam.cyklokyjovsky.cz
SUMMARY:TOUR de LIGARY 2025 - 5.etapa Křižanovice
DESCRIPTION:
URL:https://mtbteam.cyklokyjovsky.cz/akce/tour-de-ligary-2025-5-etapa-krizanovice/
LOCATION:Křižanovice\, Křižanovice\, Czech Republic
ATTACH;FMTTYPE=image/jpeg:https://mtbteam.cyklokyjovsky.cz/wp-content/uploads/2025/04/Tourdeligary2025.jpg
ORGANIZER;CN="Alena Ondrov%C3%A1":MAILTO:podatelna@nizkovice.cz
END:VEVENT
BEGIN:VEVENT
DTSTART;TZID=UTC:20250523T163000
DTEND;TZID=UTC:20250523T190000
DTSTAMP:20260421T155847
CREATED:20250410T062511Z
LAST-MODIFIED:20250410T062512Z
UID:1799-1748017800-1748026800@mtbteam.cyklokyjovsky.cz
SUMMARY:TOUR de LIGARY 2025 - 4.etapa Nížkovice
DESCRIPTION:
URL:https://mtbteam.cyklokyjovsky.cz/akce/tour-de-ligary-2025-4-etapa-nizkovice/
LOCATION:Nížkovíce\, Nížkovice\, Czech Republic
ATTACH;FMTTYPE=image/jpeg:https://mtbteam.cyklokyjovsky.cz/wp-content/uploads/2025/04/Tourdeligary2025.jpg
ORGANIZER;CN="Alena Ondrov%C3%A1":MAILTO:podatelna@nizkovice.cz
END:VEVENT
BEGIN:VEVENT
DTSTART;TZID=UTC:20250517T090000
DTEND;TZID=UTC:20250517T120000
DTSTAMP:20260421T155847
CREATED:20250410T060148Z
LAST-MODIFIED:20250410T064016Z
UID:1771-1747472400-1747483200@mtbteam.cyklokyjovsky.cz
SUMMARY:Pohár Drahanské vrchoviny 2025 - Nížkovice
DESCRIPTION:
URL:https://mtbteam.cyklokyjovsky.cz/akce/pohar-drahanske-vrchoviny-nizkovice/
LOCATION:Nížkovice\, Nížkovice\, 68401\, Czech Republic
ATTACH;FMTTYPE=image/jpeg:https://mtbteam.cyklokyjovsky.cz/wp-content/uploads/2025/04/Pohar-Drahanske-vrchoviny-Nizkovice-17-5-2025.jpg
ORGANIZER;CN="MORAVEC TEAM z.s.":MAILTO:moravecteam@gmail.cz
END:VEVENT
BEGIN:VEVENT
DTSTART;TZID=UTC:20250509T163000
DTEND;TZID=UTC:20250509T190000
DTSTAMP:20260421T155847
CREATED:20250410T062257Z
LAST-MODIFIED:20250410T062733Z
UID:1795-1746808200-1746817200@mtbteam.cyklokyjovsky.cz
SUMMARY:TOUR de LIGARY 2025 - 3.etapa Němčany
DESCRIPTION:
URL:https://mtbteam.cyklokyjovsky.cz/akce/tour-de-ligary-2025-3-etapa-nemcany/
LOCATION:Němčany\, Němčany\, Czech Republic
ATTACH;FMTTYPE=image/jpeg:https://mtbteam.cyklokyjovsky.cz/wp-content/uploads/2025/04/Tourdeligary2025.jpg
ORGANIZER;CN="Alena Ondrov%C3%A1":MAILTO:podatelna@nizkovice.cz
END:VEVENT
BEGIN:VEVENT
DTSTART;TZID=UTC:20250502T163000
DTEND;TZID=UTC:20250502T190000
DTSTAMP:20260421T155847
CREATED:20250410T062151Z
LAST-MODIFIED:20250410T062711Z
UID:1793-1746203400-1746212400@mtbteam.cyklokyjovsky.cz
SUMMARY:TOUR de LIGARY 2025 - 2.etapa Heršpice
DESCRIPTION:
URL:https://mtbteam.cyklokyjovsky.cz/akce/tour-de-ligary-2025-2-etapa-herspice/
LOCATION:Heršpice\, Heršpice\, Czech Republic
ATTACH;FMTTYPE=image/jpeg:https://mtbteam.cyklokyjovsky.cz/wp-content/uploads/2025/04/Tourdeligary2025.jpg
ORGANIZER;CN="Alena Ondrov%C3%A1":MAILTO:podatelna@nizkovice.cz
END:VEVENT
BEGIN:VEVENT
DTSTART;TZID=UTC:20250425T163000
DTEND;TZID=UTC:20250425T190000
DTSTAMP:20260421T155847
CREATED:20250410T062040Z
LAST-MODIFIED:20250410T062042Z
UID:1786-1745598600-1745607600@mtbteam.cyklokyjovsky.cz
SUMMARY:TOUR de LIGARY 2025 - 1.etapa Hodějice
DESCRIPTION:
URL:https://mtbteam.cyklokyjovsky.cz/akce/tour-de-ligary-2025-1-etapa-hodejice/
LOCATION:Hodějice\, Hodějice\, Czech Republic
ATTACH;FMTTYPE=image/jpeg:https://mtbteam.cyklokyjovsky.cz/wp-content/uploads/2025/04/Tourdeligary2025.jpg
ORGANIZER;CN="Alena Ondrov%C3%A1":MAILTO:podatelna@nizkovice.cz
END:VEVENT
BEGIN:VEVENT
DTSTART;TZID=UTC:20250411T163000
DTEND;TZID=UTC:20250411T190000
DTSTAMP:20260421T155847
CREATED:20250410T063252Z
LAST-MODIFIED:20250410T063255Z
UID:1813-1744389000-1744398000@mtbteam.cyklokyjovsky.cz
SUMMARY:Tour de NÍŽINA 2025 - 11.4.2025
DESCRIPTION:
URL:https://mtbteam.cyklokyjovsky.cz/akce/tour-de-nizina-2025-11-4-2025/
LOCATION:Nížkovice\, Nížkovice\, 68401\, Czech Republic
ATTACH;FMTTYPE=image/jpeg:https://mtbteam.cyklokyjovsky.cz/wp-content/uploads/2025/04/tourdenizina2025.jpg
ORGANIZER;CN="Alena Ondrov%C3%A1":MAILTO:podatelna@nizkovice.cz
END:VEVENT
BEGIN:VEVENT
DTSTART;TZID=UTC:20241214T101500
DTEND;TZID=UTC:20241214T200000
DTSTAMP:20260421T155847
CREATED:20241029T163916Z
LAST-MODIFIED:20241202T120730Z
UID:1310-1734171300-1734206400@mtbteam.cyklokyjovsky.cz
SUMMARY:Cyklokros - Slavkov u Brna 14.12.2024
DESCRIPTION:Pořadatel: CykloKyjovský MTB Team z.s \nTermín: 14.12.2024 \nŘeditelé závodu: Neužil Radek (728 287 938)\, Kyjovský Radovan (777 665 205) \nHlavní rozhodčí: Horák Dušan \nVelitel trati: Andrýsek Petr \nZáchranáři: Honelová Marie\, MUDr. Petr Kozmon \nPrezence: Neužilová Marcela \nStartovní čísla: Gecová Gabriela \nKancelář závodu: v místě startu – stadion Slavkov u Brna \nParkování: na vyhrazeném parkovišti na stadionu nebo u kostela \nStartovní čísla: v místě startu\, výdej čísel 45-15 minut před startem příslušné kategorie \nStartovné:  \n\nmládež 100\,- Kč (dětské závody)\nkadeti\, kadetky\, junioři\, juniorky 100\,- Kč\nmuži a ženy 200\,- Kč\n\nStartovní vlny: 1. vlna start 10:15 – délka závodu 10 min \n                                přípravka kluci (2016 a mladší) \n                                přípravka holky (2016 a mladší) \n\nvlna start 11:00 – délka závodu 20 min\n\n                                žáci mladší (2013-2015) \n                                žákyně mladší (2013-2015) \n                                žáci starší (2011-2012) \n                                žákyně starší (2011-2012) \n\nvlna start 12.00 – délka závodu 30 min\n\n                                kadetky (2009-2010) \n                                kadeti (2009-2010) \n                                juniorky (2007-2008) \n                                ženy (2006 a starší) \n\nvlna start 13:00 – délka závodu 60 min\n\n                                junioři (2007-2008) \n                                muži do 40 let (1986-2006) \n                                muži nad 40 let (1985 a starší) \nPodmínka účasti: Závodí se dle pravidel ČSC a tohoto rozpisu. \n                                Každý závodník startuje na vlastní nebezpečí. Při registraci vyplní čestné prohlášení. \nCeny: V každém závodě budou oceněni tři nejlepší závodníci kategorie (vyhlášení ihned po dojetí celé startovní vlny). \nRůzné: Cyklistická přilba povinná pro všechny kategorie. \n             Jsou dovolena cyklokrosová\, gravelová i MTB kola. \nPořadatel neručí za škody účastníkům vzniklé ani jimi způsobené. \nPořadatel si vyhrazuje právo úpravy programu v případě vyšší moci nebo omezeného počtu startujících. \nPořadatel si vyhrazuje v případě nepředvídaných okolností změnit rozpis tohoto závodu. \nMapy závodu: \n\n\n\n \n\n\n\n\n \n\n\n\n\n\n\n\n\n\n\n\n\n\n\n\n\n\n\nČestné prohlášení cyklokros dítěStáhnout
URL:https://mtbteam.cyklokyjovsky.cz/akce/cykloros-slavkov-u-brna-2024/
LOCATION:Atletický stadion Slavkov u Brna\, Kaunicova\, Slavkov u Brna\, 684 01\, Czech Republic
ATTACH;FMTTYPE=image/jpeg:https://mtbteam.cyklokyjovsky.cz/wp-content/uploads/2024/10/cyklokros_slavkov_2014.jpg
ORGANIZER;CN="CykloKyjovsk%C3%BD MTB Team z.s.":MAILTO:team@cyklokyjovsky.cz
END:VEVENT
BEGIN:VEVENT
DTSTART;TZID=UTC:20240920T160000
DTEND;TZID=UTC:20240920T200000
DTSTAMP:20260421T155847
CREATED:20210928T150421Z
LAST-MODIFIED:20240911T134942Z
UID:90-1726848000-1726862400@mtbteam.cyklokyjovsky.cz
SUMMARY:Slavkov u Brna – areál bývalé Střelnice
DESCRIPTION:V roce 2024 se můžete těšit na tři dětské cyklistické závody „Slavkovský šlapík“\n \nKdy a kde:\n20.9.2024 – Slavkov u Brna – areál bývalé Střelnice – závod začíná v 16:00 hodin. Prezentace bude probíhat od 15:15 hodin. \n\n\n\n\n\nPropoziceStáhnout\n\n\n\n\n\n\nCestne-prohlaseniStáhnout
URL:https://mtbteam.cyklokyjovsky.cz/akce/slavkov-u-brna-areal-byvale-strelnice/
LOCATION:Slavkov u Brna – areál bývalé Střelnice\, Lesní\, Slavkov u Brna\, 68401\, Česká republika
ATTACH;FMTTYPE=image/jpeg:https://mtbteam.cyklokyjovsky.cz/wp-content/uploads/2021/09/slapik23_strelnicepsd-copy.jpg
ORGANIZER;CN="CykloKyjovsk%C3%BD MTB Team z.s.":MAILTO:team@cyklokyjovsky.cz
END:VEVENT
BEGIN:VEVENT
DTSTART;TZID=UTC:20240831T164500
DTEND;TZID=UTC:20240831T200000
DTSTAMP:20260421T155847
CREATED:20210928T150653Z
LAST-MODIFIED:20240716T122446Z
UID:92-1725122700-1725134400@mtbteam.cyklokyjovsky.cz
SUMMARY:MTB závod POD SLAVKOVSKOU OBOROU - Slavkovský Šlapík II.
DESCRIPTION:Závod horských kol pro děti 0 – 15 let \nKdy: sobota 31.8.2024    \nPrezence: na místě od 16.45\, Propozice a kategorie dle Šlapík. \nKde: Slavkov u Brna\, u koupaliště \nStart: 17.00 podle kategorií (pro děti od 0 let až 15 let) \nVyhlášení výsledků po dojetí poslední kategorie 😊 \n \nRadek Neužil\, \n728287938\nradekneuzil@seznam.cz\n \nBoris Vlach\n775330993\nboris@austerlitz-adventure.cz\n\n\n\n\n\n\nPropozice_Stáhnout\n\n\n\n\n\n\nCestne_prohlaseni_Stáhnout
URL:https://mtbteam.cyklokyjovsky.cz/akce/slavkov-u-brna-pod-oborou-v-aleji-u-koupaliste/
LOCATION:Slavkov u Brna\, Pod Oborou\, Slavkov u Brna\, 68401\, Česká republika
ATTACH;FMTTYPE=image/jpeg:https://mtbteam.cyklokyjovsky.cz/wp-content/uploads/2021/09/CykloKyjovsky-MTB-team-a.jpg
ORGANIZER;CN="CykloKyjovsk%C3%BD MTB Team z.s.":MAILTO:team@cyklokyjovsky.cz
END:VEVENT
BEGIN:VEVENT
DTSTART;TZID=UTC:20240612T163000
DTEND;TZID=UTC:20240612T200000
DTSTAMP:20260421T155847
CREATED:20240607T122943Z
LAST-MODIFIED:20240617T065245Z
UID:95-1718209800-1718222400@mtbteam.cyklokyjovsky.cz
SUMMARY:Slavkovský šlapík 2024 - Slavkov u Brna - Nádvoří zámku
DESCRIPTION:V roce 2024 se můžete těšit na tři dětské cyklistické závody „Slavkovský šlapík“\n \nKdy a kde:\n12.6.2024 –  Slavkov u Brna – Nádvoří zámku – závod začíná v 16:30 hodin. Prezentace bude probíhat od 15:45 hodin. \n31.8.2024 – Slavkov u Brna – pod Oborou (v aleji u koupaliště) – závod začíná v 16:00 hodin. Prezentace bude probíhat od 15:15 hodin. \n20.9.2024 – Slavkov u Brna – areál bývalé Střelnice – závod začíná v 16:00 hodin. Prezentace bude probíhat od 15:15 hodin. \n\n\n\n\n\n\nPropoziceStáhnout\n\n\n\n\n\n\nCestne-prohlaseniStáhnout
URL:https://mtbteam.cyklokyjovsky.cz/akce/slavkovsky-slapik-2024-slavkov-u-brna-nadvori-zamku/
LOCATION:Slavkov u Brna – nádvoří zámku\, Palackého nám. 1\, Slavkov u Brna\, 68401\, Česká republika
ATTACH;FMTTYPE=image/jpeg:https://mtbteam.cyklokyjovsky.cz/wp-content/uploads/2024/06/slapik24.jpg
ORGANIZER;CN="CykloKyjovsk%C3%BD MTB Team z.s.":MAILTO:team@cyklokyjovsky.cz
END:VEVENT
END:VCALENDAR